BEGIN:VCALENDAR
VERSION:2.0
PRODID:-//jEvents 2.0 for Joomla//EN
CALSCALE:GREGORIAN
METHOD:PUBLISH
BEGIN:VTIMEZONE
TZID:Europe/Madrid
BEGIN:STANDARD
DTSTART:20130301T113000
RDATE:20130331T030000
TZOFFSETFROM:+0200
TZOFFSETTO:+0100
TZNAME:Europe/Madrid CET
END:STANDARD
BEGIN:STANDARD
DTSTART:20131027T020000
RDATE:20140330T030000
TZOFFSETFROM:+0200
TZOFFSETTO:+0100
TZNAME:Europe/Madrid CET
END:STANDARD
BEGIN:STANDARD
DTSTART:20141026T020000
RDATE:20150329T030000
TZOFFSETFROM:+0200
TZOFFSETTO:+0100
TZNAME:Europe/Madrid CET
END:STANDARD
BEGIN:STANDARD
DTSTART:20151025T020000
RDATE:20160327T030000
TZOFFSETFROM:+0200
TZOFFSETTO:+0100
TZNAME:Europe/Madrid CET
END:STANDARD
BEGIN:STANDARD
DTSTART:20161030T020000
RDATE:20170326T030000
TZOFFSETFROM:+0200
TZOFFSETTO:+0100
TZNAME:Europe/Madrid CET
END:STANDARD
BEGIN:STANDARD
DTSTART:20171029T020000
RDATE:20180325T030000
TZOFFSETFROM:+0200
TZOFFSETTO:+0100
TZNAME:Europe/Madrid CET
END:STANDARD
BEGIN:STANDARD
DTSTART:20181028T020000
RDATE:20190331T030000
TZOFFSETFROM:+0200
TZOFFSETTO:+0100
TZNAME:Europe/Madrid CET
END:STANDARD
BEGIN:STANDARD
DTSTART:20191027T020000
RDATE:20200329T030000
TZOFFSETFROM:+0200
TZOFFSETTO:+0100
TZNAME:Europe/Madrid CET
END:STANDARD
BEGIN:STANDARD
DTSTART:20201025T020000
RDATE:20210328T030000
TZOFFSETFROM:+0200
TZOFFSETTO:+0100
TZNAME:Europe/Madrid CET
END:STANDARD
BEGIN:DAYLIGHT
DTSTART:20130331T030000
RDATE:20131027T020000
TZOFFSETFROM:+0100
TZOFFSETTO:+0200
TZNAME:Europe/Madrid CEST
END:DAYLIGHT
BEGIN:DAYLIGHT
DTSTART:20140330T030000
RDATE:20141026T020000
TZOFFSETFROM:+0100
TZOFFSETTO:+0200
TZNAME:Europe/Madrid CEST
END:DAYLIGHT
BEGIN:DAYLIGHT
DTSTART:20150329T030000
RDATE:20151025T020000
TZOFFSETFROM:+0100
TZOFFSETTO:+0200
TZNAME:Europe/Madrid CEST
END:DAYLIGHT
BEGIN:DAYLIGHT
DTSTART:20160327T030000
RDATE:20161030T020000
TZOFFSETFROM:+0100
TZOFFSETTO:+0200
TZNAME:Europe/Madrid CEST
END:DAYLIGHT
BEGIN:DAYLIGHT
DTSTART:20170326T030000
RDATE:20171029T020000
TZOFFSETFROM:+0100
TZOFFSETTO:+0200
TZNAME:Europe/Madrid CEST
END:DAYLIGHT
BEGIN:DAYLIGHT
DTSTART:20180325T030000
RDATE:20181028T020000
TZOFFSETFROM:+0100
TZOFFSETTO:+0200
TZNAME:Europe/Madrid CEST
END:DAYLIGHT
BEGIN:DAYLIGHT
DTSTART:20190331T030000
RDATE:20191027T020000
TZOFFSETFROM:+0100
TZOFFSETTO:+0200
TZNAME:Europe/Madrid CEST
END:DAYLIGHT
BEGIN:DAYLIGHT
DTSTART:20200329T030000
RDATE:20201025T020000
TZOFFSETFROM:+0100
TZOFFSETTO:+0200
TZNAME:Europe/Madrid CEST
END:DAYLIGHT
END:VTIMEZONE
BEGIN:VEVENT
UID:c1134098faf93e358f4d289cf7408cf8
CATEGORIES:Actos y Cultos de la Cofradia
SUMMARY:Solemne Fiesta Principal
LOCATION:Iglesia Mayor de Santa María de los Reales Alcázares
DESCRIPTION;ENCODING=QUOTED-PRINTABLE:
        <div class="itp-share">
             	<div class="itp-share-tw">
 
                	<a href="https://twitter.com/share" class="twitter-share-bu
 tton" data-url="http://santoentierrodeubeda.es/component/jevents/icals.ical
 event/-.html" data-text="Solemne Fiesta Principal" data-via="@SantoEntierro
 Ub" data-lang="es" data-size="small" data-related="" data-hashtags="#santoe
 ntierroubeda" data-count="horizontal">Tweet</a>
                	<script ty
 pe="text/javascript">!function(d,s,id){var js,fjs=d.getElementsByTagName(s)
 [0];if(!d.getElementById(id)){js=d.createElement(s);js.id=id;js.src="//plat
 form.twitter.com/widgets.js";fjs.parentNode.insertBefore(js,fjs);}}(documen
 t,"script","twitter-wjs");</script>
            	</div>
            <div cl
 ass="itp-share-fbl"><div id="fb-root"></div>
<script type="text/javascript"
 >(function(d, s, id) {
  var js, fjs = d.getElementsByTagName(s)[0];
  if (
 d.getElementById(id)) return;
  js = d.createElement(s); js.id = id;
  js.s
 rc = "//connect.facebook.net/es_ES/all.js#xfbml=1"
  fjs.parentNode.insertB
 efore(js, fjs);
}(document, "script", "facebook-jssdk"));</script>
        
            
                <div 
                class="fb-like" 
        
         data-href="http://santoentierrodeubeda.es/component/jevents/icals.i
 calevent/-.html" 
                data-send="0" 
                data-layou
 t="button_count" 
                data-width="90" 
                data-sho
 w-faces="true" 
                data-colorscheme="light" 
                d
 ata-action="like"></div></div><div class="itp-share-gone"><div class="g-plu
 sone" data-size="medium"  data-href="http://santoentierrodeubeda.es/compone
 nt/jevents/icals.icalevent/-.html"></div><script type="text/javascript"> wi
 ndow.___gcfg = {lang: "es"};
              (function() {
                va
 r po = document.createElement("script"); po.type = "text/javascript"; po.as
 ync = true;
                po.src = "https://apis.google.com/js/plusone.js
 ";
                var s = document.getElementsByTagName("script")[0]; s.pa
 rentNode.insertBefore(po, s);
              })();
            </script></di
 v>
        </div>
        <div style="clear:both;"></div>
        
DTSTAMP:20260421T134525Z
DTSTART;TZID=Europe/Madrid:20140302T113000
DTEND;TZID=Europe/Madrid:20140302T123000
SEQUENCE:0
TRANSP:OPAQUE
END:VEVENT
END:VCALENDAR